BEGIN:VCALENDAR
PRODID:-//srthomasn10597//EN
VERSION:2.0
BEGIN:VEVENT
SUMMARY:Thomas N. Miller: Auction of Antiques, Collectables &amp; Furnishings (Remainder of Catalogue to Follow)
PRIORITY:0
CLASS:PUBLIC
DTSTART:20260505T100000Z
DTEND:20260505T225900Z
DESCRIPTION:
X-ALT-DESC;FMTTYPE=text/html:
LOCATION:The Algernon Road Auction Rooms, Byker, Newcastle-upon-Tyne, Tyne And Wear, NE6 2UN, United Kingdom
END:VEVENT
END:VCALENDAR